Package: rDGIdb Version: 1.31.0 Command: /home/biocbuild/bbs-3.20-bioc/R/bin/R CMD check --install=check:rDGIdb.install-out.txt --library=/home/biocbuild/bbs-3.20-bioc/R/site-library --timings rDGIdb_1.31.0.tar.gz StartedAt: 2024-05-25 01:44:05 -0400 (Sat, 25 May 2024) EndedAt: 2024-05-25 01:45:57 -0400 (Sat, 25 May 2024) EllapsedTime: 112.1 seconds RetCode: 0 Status: OK CheckDir: rDGIdb.Rcheck Warnings: 0