Package: rCGH Version: 1.36.0 Command: /home/biocbuild/R/R/bin/R CMD build --keep-empty-dirs --no-resave-data rCGH StartedAt: 2025-02-04 02:07:26 -0000 (Tue, 04 Feb 2025) EndedAt: 2025-02-04 02:09:09 -0000 (Tue, 04 Feb 2025) EllapsedTime: 103.1 seconds RetCode: 0 Status: OK PackageFile: rCGH_1.36.0.tar.gz PackageFileSize: 3.692 MiB