Package: rCGH Version: 1.36.0 Command: chmod a+r rCGH -R && F:\biocbuild\bbs-3.20-bioc\R\bin\R.exe CMD build --keep-empty-dirs --no-resave-data rCGH StartedAt: 2025-02-03 21:33:16 -0500 (Mon, 03 Feb 2025) EndedAt: 2025-02-03 21:35:18 -0500 (Mon, 03 Feb 2025) EllapsedTime: 121.9 seconds RetCode: 0 Status: OK PackageFile: rCGH_1.36.0.tar.gz PackageFileSize: 3.742 MiB