Package: rCGH Version: 1.36.0 Command: /home/biocbuild/bbs-3.20-bioc/R/bin/R CMD check --install=check:rCGH.install-out.txt --library=/home/biocbuild/bbs-3.20-bioc/R/site-library --timings rCGH_1.36.0.tar.gz StartedAt: 2025-01-31 01:26:18 -0500 (Fri, 31 Jan 2025) EndedAt: 2025-01-31 01:33:13 -0500 (Fri, 31 Jan 2025) EllapsedTime: 414.6 seconds RetCode: 0 Status: OK CheckDir: rCGH.Rcheck Warnings: 0