Package: rCGH Version: 1.36.0 Command: /Library/Frameworks/R.framework/Resources/bin/R CMD build --keep-empty-dirs --no-resave-data rCGH StartedAt: 2024-11-19 18:18:05 -0500 (Tue, 19 Nov 2024) EndedAt: 2024-11-19 18:19:55 -0500 (Tue, 19 Nov 2024) EllapsedTime: 109.6 seconds RetCode: 0 Status: OK PackageFile: rCGH_1.36.0.tar.gz PackageFileSize: 3.784 MiB