Package: rCGH Version: 1.36.0 Command: /Library/Frameworks/R.framework/Resources/bin/R CMD build --keep-empty-dirs --no-resave-data rCGH StartedAt: 2024-11-08 18:43:52 -0500 (Fri, 08 Nov 2024) EndedAt: 2024-11-08 18:44:27 -0500 (Fri, 08 Nov 2024) EllapsedTime: 35.4 seconds RetCode: 0 Status: OK PackageFile: rCGH_1.36.0.tar.gz PackageFileSize: 3.785 MiB