Package: rCGH Version: 1.36.0 Command: /Library/Frameworks/R.framework/Resources/bin/R CMD INSTALL rCGH StartedAt: 2025-01-30 17:29:05 -0500 (Thu, 30 Jan 2025) EndedAt: 2025-01-30 17:29:59 -0500 (Thu, 30 Jan 2025) EllapsedTime: 54.2 seconds RetCode: 0 Status: OK