Package: rCGH Version: 1.36.0 Command: /Library/Frameworks/R.framework/Resources/bin/R CMD check --install=check:rCGH.install-out.txt --library=/Library/Frameworks/R.framework/Resources/library --no-vignettes --timings rCGH_1.36.0.tar.gz StartedAt: 2025-02-01 06:00:54 -0500 (Sat, 01 Feb 2025) EndedAt: 2025-02-01 06:08:22 -0500 (Sat, 01 Feb 2025) EllapsedTime: 447.5 seconds RetCode: 0 Status: OK CheckDir: rCGH.Rcheck Warnings: 0