Package: rCGH Version: 1.36.0 Command: /Library/Frameworks/R.framework/Resources/bin/R CMD build --keep-empty-dirs --no-resave-data rCGH StartedAt: 2025-01-31 06:09:47 -0500 (Fri, 31 Jan 2025) EndedAt: 2025-01-31 06:11:37 -0500 (Fri, 31 Jan 2025) EllapsedTime: 109.8 seconds RetCode: 0 Status: OK PackageFile: rCGH_1.36.0.tar.gz PackageFileSize: 3.785 MiB