Package: rCGH Version: 1.36.0 Command: rm -rf rCGH.buildbin-libdir && mkdir rCGH.buildbin-libdir && /Users/biocbuild/BBS/utils/build-universal.sh rCGH_1.36.0.tar.gz /Library/Frameworks/R.framework/Resources/bin/R rCGH.buildbin-libdir StartedAt: 2025-02-01 16:23:15 -0500 (Sat, 01 Feb 2025) EndedAt: 2025-02-01 16:24:15 -0500 (Sat, 01 Feb 2025) EllapsedTime: 59.7 seconds RetCode: 0 Status: OK PackageFile: rCGH_1.36.0.tgz PackageFileSize: 5.012 MiB