Package: rBLAST Version: 1.4.0 Command: chmod a+r rBLAST -R && E:\biocbuild\bbs-3.21-bioc\R\bin\R.exe CMD build --keep-empty-dirs --no-resave-data rBLAST StartedAt: 2025-08-14 21:36:28 -0400 (Thu, 14 Aug 2025) EndedAt: 2025-08-14 21:36:45 -0400 (Thu, 14 Aug 2025) EllapsedTime: 17.6 seconds RetCode: 0 Status: OK PackageFile: rBLAST_1.4.0.tar.gz PackageFileSize: 24.97 KiB