Package: rBLAST Version: 1.2.0 Command: /Library/Frameworks/R.framework/Resources/bin/R CMD build --keep-empty-dirs --no-resave-data rBLAST StartedAt: 2025-01-02 21:25:45 -0500 (Thu, 02 Jan 2025) EndedAt: 2025-01-02 21:26:18 -0500 (Thu, 02 Jan 2025) EllapsedTime: 32.8 seconds RetCode: 0 Status: OK PackageFile: rBLAST_1.2.0.tar.gz PackageFileSize: 24.59 KiB