Package: rBLAST Version: 1.2.0 Command: rm -rf rBLAST.buildbin-libdir && mkdir rBLAST.buildbin-libdir && /Users/biocbuild/BBS/utils/build-universal.sh rBLAST_1.2.0.tar.gz /Library/Frameworks/R.framework/Resources/bin/R rBLAST.buildbin-libdir StartedAt: 2024-12-20 13:04:20 -0500 (Fri, 20 Dec 2024) EndedAt: 2024-12-20 13:04:49 -0500 (Fri, 20 Dec 2024) EllapsedTime: 28.7 seconds RetCode: 0 Status: OK PackageFile: rBLAST_1.2.0.tgz PackageFileSize: 48.21 KiB