Package: qvalue Version: 2.38.0 Command: /home/biocbuild/R/R/bin/R CMD INSTALL qvalue StartedAt: 2025-01-30 20:18:43 -0000 (Thu, 30 Jan 2025) EndedAt: 2025-01-30 20:18:48 -0000 (Thu, 30 Jan 2025) EllapsedTime: 4.8 seconds RetCode: 0 Status: OK