Package: qvalue Version: 2.40.0 Maintainer: John D. Storey , Andrew J. Bass MaintainerEmail: ajbass at emory.edu git_url: https://git.bioconductor.org/packages/qvalue git_branch: RELEASE_3_21 git_last_commit: 09da9f4 git_last_commit_date: 2025-04-15 09:17:33 -0400 (Tue, 15 Apr 2025)