Package: qusage Version: 2.40.0 Command: F:\biocbuild\bbs-3.20-bioc\R\bin\R.exe CMD INSTALL qusage StartedAt: 2025-01-30 15:29:27 -0500 (Thu, 30 Jan 2025) EndedAt: 2025-01-30 15:29:51 -0500 (Thu, 30 Jan 2025) EllapsedTime: 23.5 seconds RetCode: 0 Status: OK