Package: qusage Version: 2.40.0 Command: chmod a+r qusage -R && F:\biocbuild\bbs-3.20-bioc\R\bin\R.exe CMD build --keep-empty-dirs --no-resave-data qusage StartedAt: 2025-01-30 21:11:27 -0500 (Thu, 30 Jan 2025) EndedAt: 2025-01-30 21:18:43 -0500 (Thu, 30 Jan 2025) EllapsedTime: 436.1 seconds RetCode: 0 Status: OK PackageFile: qusage_2.40.0.tar.gz PackageFileSize: 9.5 MiB