Package: qusage Version: 2.40.0 Command: /Library/Frameworks/R.framework/Resources/bin/R CMD INSTALL qusage StartedAt: 2025-01-30 15:13:40 -0500 (Thu, 30 Jan 2025) EndedAt: 2025-01-30 15:13:57 -0500 (Thu, 30 Jan 2025) EllapsedTime: 17.6 seconds RetCode: 0 Status: OK