Package: qusage Version: 2.42.0 Command: /Library/Frameworks/R.framework/Resources/bin/R CMD check --install=check:qusage.install-out.txt --library=/Library/Frameworks/R.framework/Resources/library --no-vignettes --timings qusage_2.42.0.tar.gz StartedAt: 2025-04-26 07:45:52 -0400 (Sat, 26 Apr 2025) EndedAt: 2025-04-26 07:47:26 -0400 (Sat, 26 Apr 2025) EllapsedTime: 93.6 seconds RetCode: 0 Status: OK CheckDir: qusage.Rcheck Warnings: 0