Package: qusage Version: 2.42.0 Command: /Library/Frameworks/R.framework/Resources/bin/R CMD build --keep-empty-dirs --no-resave-data qusage StartedAt: 2025-04-25 07:56:14 -0400 (Fri, 25 Apr 2025) EndedAt: 2025-04-25 08:03:48 -0400 (Fri, 25 Apr 2025) EllapsedTime: 453.6 seconds RetCode: 0 Status: OK PackageFile: qusage_2.42.0.tar.gz PackageFileSize: 9.67 MiB