Package: quantro Version: 1.42.0 Command: /Library/Frameworks/R.framework/Resources/bin/R CMD build --keep-empty-dirs --no-resave-data quantro StartedAt: 2025-09-29 21:46:33 -0400 (Mon, 29 Sep 2025) EndedAt: 2025-09-29 21:50:13 -0400 (Mon, 29 Sep 2025) EllapsedTime: 220.7 seconds RetCode: 0 Status: OK PackageFile: quantro_1.42.0.tar.gz PackageFileSize: 2.779 MiB