Package: qsmooth Version: 1.22.0 Command: /home/biocbuild/R/R/bin/R CMD INSTALL qsmooth StartedAt: 2025-01-30 20:53:54 -0000 (Thu, 30 Jan 2025) EndedAt: 2025-01-30 20:54:34 -0000 (Thu, 30 Jan 2025) EllapsedTime: 39.8 seconds RetCode: 0 Status: OK