Package: qsea Version: 1.32.0 Command: F:\biocbuild\bbs-3.20-bioc\R\bin\R.exe CMD check --no-multiarch --install=check:qsea.install-out.txt --library=F:\biocbuild\bbs-3.20-bioc\R\library --no-vignettes --timings qsea_1.32.0.tar.gz StartedAt: 2025-01-31 05:22:49 -0500 (Fri, 31 Jan 2025) EndedAt: 2025-01-31 05:28:06 -0500 (Fri, 31 Jan 2025) EllapsedTime: 317.0 seconds RetCode: 0 Status: WARNINGS CheckDir: qsea.Rcheck Warnings: 1