Package: qsea Version: 1.32.0 Command: chmod a+r qsea -R && F:\biocbuild\bbs-3.20-bioc\R\bin\R.exe CMD build --keep-empty-dirs --no-resave-data qsea StartedAt: 2025-01-30 21:09:48 -0500 (Thu, 30 Jan 2025) EndedAt: 2025-01-30 21:11:16 -0500 (Thu, 30 Jan 2025) EllapsedTime: 87.7 seconds RetCode: 0 Status: OK PackageFile: qsea_1.32.0.tar.gz PackageFileSize: 603.4 KiB