Package: qsea
Version: 1.32.0
Command: /home/biocbuild/bbs-3.20-bioc/R/bin/R CMD check --install=check:qsea.install-out.txt --library=/home/biocbuild/bbs-3.20-bioc/R/site-library --timings qsea_1.32.0.tar.gz
StartedAt: 2025-02-11 01:19:51 -0500 (Tue, 11 Feb 2025)
EndedAt: 2025-02-11 01:24:46 -0500 (Tue, 11 Feb 2025)
EllapsedTime: 295.3 seconds
RetCode: 0
Status: WARNINGS
CheckDir: qsea.Rcheck
Warnings: 1