Package: qsea Version: 1.34.0 Command: /home/biocbuild/R/R/bin/R CMD build --keep-empty-dirs --no-resave-data qsea StartedAt: 2025-09-26 05:03:51 -0000 (Fri, 26 Sep 2025) EndedAt: 2025-09-26 05:05:08 -0000 (Fri, 26 Sep 2025) EllapsedTime: 77.0 seconds RetCode: 0 Status: OK PackageFile: qsea_1.34.0.tar.gz PackageFileSize: 821.9 KiB