Package: qpgraph Version: 2.42.0 Command: /Library/Frameworks/R.framework/Resources/bin/R CMD check --install=check:qpgraph.install-out.txt --library=/Library/Frameworks/R.framework/Resources/library --no-vignettes --timings qpgraph_2.42.0.tar.gz StartedAt: 2025-04-21 22:49:51 -0400 (Mon, 21 Apr 2025) EndedAt: 2025-04-21 22:55:23 -0400 (Mon, 21 Apr 2025) EllapsedTime: 331.8 seconds RetCode: 0 Status: OK CheckDir: qpgraph.Rcheck Warnings: 0