Package: qpgraph Version: 2.42.0 Command: /Library/Frameworks/R.framework/Resources/bin/R CMD build --keep-empty-dirs --no-resave-data qpgraph StartedAt: 2025-04-21 18:02:41 -0400 (Mon, 21 Apr 2025) EndedAt: 2025-04-21 18:05:02 -0400 (Mon, 21 Apr 2025) EllapsedTime: 140.4 seconds RetCode: 0 Status: OK PackageFile: qpgraph_2.42.0.tar.gz PackageFileSize: 2.703 MiB