Package: qpgraph Version: 2.42.0 Command: rm -rf qpgraph.buildbin-libdir && mkdir qpgraph.buildbin-libdir && /Users/biocbuild/BBS/utils/build-universal.sh qpgraph_2.42.0.tar.gz /Library/Frameworks/R.framework/Resources/bin/R qpgraph.buildbin-libdir StartedAt: 2025-04-21 22:47:24 -0400 (Mon, 21 Apr 2025) EndedAt: 2025-04-21 22:47:50 -0400 (Mon, 21 Apr 2025) EllapsedTime: 26.6 seconds RetCode: 0 Status: OK PackageFile: qpgraph_2.42.0.tgz PackageFileSize: 4.093 MiB