Package: qmtools
Version: 1.10.0
Command: /home/biocbuild/R/R/bin/R CMD check --install=check:qmtools.install-out.txt --library=/home/biocbuild/R/R/site-library --no-vignettes --timings qmtools_1.10.0.tar.gz
StartedAt: 2025-02-11 09:27:16 -0000 (Tue, 11 Feb 2025)
EndedAt: 2025-02-11 09:31:16 -0000 (Tue, 11 Feb 2025)
EllapsedTime: 240.3 seconds
RetCode: 0
Status: OK
CheckDir: qmtools.Rcheck
Warnings: 0