Package: qmtools Version: 1.10.0 Command: chmod a+r qmtools -R && F:\biocbuild\bbs-3.20-bioc\R\bin\R.exe CMD build --keep-empty-dirs --no-resave-data qmtools StartedAt: 2025-02-03 21:25:21 -0500 (Mon, 03 Feb 2025) EndedAt: 2025-02-03 21:26:58 -0500 (Mon, 03 Feb 2025) EllapsedTime: 96.6 seconds RetCode: 0 Status: OK PackageFile: qmtools_1.10.0.tar.gz PackageFileSize: 716 KiB