Package: qmtools Version: 1.10.0 Command: rm -rf qmtools.buildbin-libdir && mkdir qmtools.buildbin-libdir && F:\biocbuild\bbs-3.20-bioc\R\bin\R.exe CMD INSTALL --build --library=qmtools.buildbin-libdir qmtools_1.10.0.tar.gz StartedAt: 2025-01-31 09:20:19 -0500 (Fri, 31 Jan 2025) EndedAt: 2025-01-31 09:20:57 -0500 (Fri, 31 Jan 2025) EllapsedTime: 38.4 seconds RetCode: 0 Status: OK PackageFile: qmtools_1.10.0.zip PackageFileSize: 847.2 KiB