Package: qmtools Version: 1.10.0 Command: /Library/Frameworks/R.framework/Resources/bin/R CMD check --install=check:qmtools.install-out.txt --library=/Library/Frameworks/R.framework/Resources/library --no-vignettes --timings qmtools_1.10.0.tar.gz StartedAt: 2025-01-31 08:27:27 -0500 (Fri, 31 Jan 2025) EndedAt: 2025-01-31 08:34:32 -0500 (Fri, 31 Jan 2025) EllapsedTime: 425.3 seconds RetCode: 0 Status: OK CheckDir: qmtools.Rcheck Warnings: 0