############################################################################## ############################################################################## ### ### Running command: ### ### rm -rf qmtools.buildbin-libdir && mkdir qmtools.buildbin-libdir && /Users/biocbuild/BBS/utils/build-universal.sh qmtools_1.12.0.tar.gz /Library/Frameworks/R.framework/Resources/bin/R qmtools.buildbin-libdir ### ############################################################################## ############################################################################## >>>>>>> >>>>>>> INSTALLATION WITH 'R CMD INSTALL --preclean --no-multiarch --library=qmtools.buildbin-libdir qmtools_1.12.0.tar.gz' >>>>>>> * installing *source* package ‘qmtools’ ... ** this is package ‘qmtools’ version ‘1.12.0’ ** using staged installation ** R ** data ** inst ** byte-compile and prepare package for lazy loading ** help *** installing help indices ** building package indices ** installing vignettes ** testing if installed package can be loaded from temporary location ** testing if installed package can be loaded from final location ** testing if installed package keeps a record of temporary installation path * DONE (qmtools) chown: qmtools.buildbin-libdir/qmtools/R/qmtools.rdb: Operation not permitted chown: qmtools.buildbin-libdir/qmtools/R/qmtools.rdx: Operation not permitted chown: qmtools.buildbin-libdir/qmtools/R/qmtools: Operation not permitted chown: qmtools.buildbin-libdir/qmtools/R: Operation not permitted chown: qmtools.buildbin-libdir/qmtools/Meta/vignette.rds: Operation not permitted chown: qmtools.buildbin-libdir/qmtools/Meta/data.rds: Operation not permitted chown: qmtools.buildbin-libdir/qmtools/Meta/links.rds: Operation not permitted chown: qmtools.buildbin-libdir/qmtools/Meta/features.rds: Operation not permitted chown: qmtools.buildbin-libdir/qmtools/Meta/nsInfo.rds: Operation not permitted chown: qmtools.buildbin-libdir/qmtools/Meta/package.rds: Operation not permitted chown: qmtools.buildbin-libdir/qmtools/Meta/hsearch.rds: Operation not permitted chown: qmtools.buildbin-libdir/qmtools/Meta/Rd.rds: Operation not permitted chown: qmtools.buildbin-libdir/qmtools/Meta: Operation not permitted chown: qmtools.buildbin-libdir/qmtools/NAMESPACE: Operation not permitted chown: qmtools.buildbin-libdir/qmtools/html/R.css: Operation not permitted chown: qmtools.buildbin-libdir/qmtools/html/00Index.html: Operation not permitted chown: qmtools.buildbin-libdir/qmtools/html: Operation not permitted chown: qmtools.buildbin-libdir/qmtools/DESCRIPTION: Operation not permitted chown: qmtools.buildbin-libdir/qmtools/NEWS: Operation not permitted chown: qmtools.buildbin-libdir/qmtools/INDEX: Operation not permitted chown: qmtools.buildbin-libdir/qmtools/doc/index.html: Operation not permitted chown: qmtools.buildbin-libdir/qmtools/doc/qmtools.R: Operation not permitted chown: qmtools.buildbin-libdir/qmtools/doc/qmtools.html: Operation not permitted chown: qmtools.buildbin-libdir/qmtools/doc/qmtools.Rmd: Operation not permitted chown: qmtools.buildbin-libdir/qmtools/doc: Operation not permitted chown: qmtools.buildbin-libdir/qmtools/data/faahko_se.rda: Operation not permitted chown: qmtools.buildbin-libdir/qmtools/data: Operation not permitted chown: qmtools.buildbin-libdir/qmtools/help/AnIndex: Operation not permitted chown: qmtools.buildbin-libdir/qmtools/help/aliases.rds: Operation not permitted chown: qmtools.buildbin-libdir/qmtools/help/qmtools.rdb: Operation not permitted chown: qmtools.buildbin-libdir/qmtools/help/paths.rds: Operation not permitted chown: qmtools.buildbin-libdir/qmtools/help/qmtools.rdx: Operation not permitted chown: qmtools.buildbin-libdir/qmtools/help: Operation not permitted chown: qmtools.buildbin-libdir/qmtools: Operation not permitted