Package: qmtools Version: 1.12.0 Command: /home/biocbuild/R/R/bin/R CMD INSTALL qmtools StartedAt: 2025-04-21 20:31:16 -0000 (Mon, 21 Apr 2025) EndedAt: 2025-04-21 20:31:50 -0000 (Mon, 21 Apr 2025) EllapsedTime: 34.4 seconds RetCode: 0 Status: OK