Package: qmtools Version: 1.12.0 Command: /home/biocbuild/R/R/bin/R CMD build --keep-empty-dirs --no-resave-data qmtools StartedAt: 2025-04-22 03:36:06 -0000 (Tue, 22 Apr 2025) EndedAt: 2025-04-22 03:37:19 -0000 (Tue, 22 Apr 2025) EllapsedTime: 73.1 seconds RetCode: 0 Status: OK PackageFile: qmtools_1.12.0.tar.gz PackageFileSize: 1.395 MiB