Package: qmtools Version: 1.10.0 Command: /Library/Frameworks/R.framework/Resources/bin/R CMD check --install=check:qmtools.install-out.txt --library=/Library/Frameworks/R.framework/Resources/library --no-vignettes --timings qmtools_1.10.0.tar.gz StartedAt: 2024-11-09 10:25:11 -0500 (Sat, 09 Nov 2024) EndedAt: 2024-11-09 10:30:05 -0500 (Sat, 09 Nov 2024) EllapsedTime: 293.9 seconds RetCode: 0 Status: OK CheckDir: qmtools.Rcheck Warnings: 0