Package: qmtools Version: 1.12.0 Command: /Library/Frameworks/R.framework/Resources/bin/R CMD INSTALL qmtools StartedAt: 2025-04-24 17:06:00 -0400 (Thu, 24 Apr 2025) EndedAt: 2025-04-24 17:06:28 -0400 (Thu, 24 Apr 2025) EllapsedTime: 27.7 seconds RetCode: 0 Status: OK