Package: qmtools Version: 1.12.0 Command: /Library/Frameworks/R.framework/Resources/bin/R CMD build --keep-empty-dirs --no-resave-data qmtools StartedAt: 2025-04-29 00:14:50 -0400 (Tue, 29 Apr 2025) EndedAt: 2025-04-29 00:15:11 -0400 (Tue, 29 Apr 2025) EllapsedTime: 20.2 seconds RetCode: 0 Status: OK PackageFile: qmtools_1.12.0.tar.gz PackageFileSize: 1.412 MiB