Package: qmtools Version: 1.10.0 Command: rm -rf qmtools.buildbin-libdir && mkdir qmtools.buildbin-libdir && /Users/biocbuild/BBS/utils/build-universal.sh qmtools_1.10.0.tar.gz /Library/Frameworks/R.framework/Resources/bin/R qmtools.buildbin-libdir StartedAt: 2025-02-01 16:18:57 -0500 (Sat, 01 Feb 2025) EndedAt: 2025-02-01 16:19:28 -0500 (Sat, 01 Feb 2025) EllapsedTime: 31.5 seconds RetCode: 0 Status: OK PackageFile: qmtools_1.10.0.tgz PackageFileSize: 1.532 MiB