Package: qcmetrics Version: 1.46.0 Command: chmod a+r qcmetrics -R && E:\biocbuild\bbs-3.21-bioc\R\bin\R.exe CMD build --keep-empty-dirs --no-resave-data qcmetrics StartedAt: 2025-08-14 21:28:57 -0400 (Thu, 14 Aug 2025) EndedAt: 2025-08-14 21:30:09 -0400 (Thu, 14 Aug 2025) EllapsedTime: 72.5 seconds RetCode: 0 Status: OK PackageFile: qcmetrics_1.46.0.tar.gz PackageFileSize: 4.215 MiB