Package: qckitfastq Version: 1.24.0 Command: /home/biocbuild/R/R/bin/R CMD check --install=check:qckitfastq.install-out.txt --library=/home/biocbuild/R/R/site-library --no-vignettes --timings qckitfastq_1.24.0.tar.gz StartedAt: 2025-04-22 12:35:57 -0000 (Tue, 22 Apr 2025) EndedAt: 2025-04-22 12:37:15 -0000 (Tue, 22 Apr 2025) EllapsedTime: 78.0 seconds RetCode: 0 Status: WARNINGS CheckDir: qckitfastq.Rcheck Warnings: 1