Package: qckitfastq Version: 1.24.0 Command: /Library/Frameworks/R.framework/Resources/bin/R CMD INSTALL qckitfastq StartedAt: 2025-05-12 15:27:23 -0400 (Mon, 12 May 2025) EndedAt: 2025-05-12 15:27:41 -0400 (Mon, 12 May 2025) EllapsedTime: 18.0 seconds RetCode: 0 Status: OK