Package: qckitfastq Version: 1.24.0 Command: /Library/Frameworks/R.framework/Resources/bin/R CMD check --install=check:qckitfastq.install-out.txt --library=/Library/Frameworks/R.framework/Resources/library --no-vignettes --timings qckitfastq_1.24.0.tar.gz StartedAt: 2025-05-17 05:47:31 -0400 (Sat, 17 May 2025) EndedAt: 2025-05-17 05:48:54 -0400 (Sat, 17 May 2025) EllapsedTime: 82.9 seconds RetCode: 0 Status: OK CheckDir: qckitfastq.Rcheck Warnings: 0