Package: puma Version: 3.50.0 Command: E:\biocbuild\bbs-3.21-bioc\R\bin\R.exe CMD INSTALL puma StartedAt: 2025-08-14 16:10:52 -0400 (Thu, 14 Aug 2025) EndedAt: 2025-08-14 16:12:14 -0400 (Thu, 14 Aug 2025) EllapsedTime: 82.4 seconds RetCode: 0 Status: OK