Package: puma Version: 3.50.0 Command: /home/biocbuild/bbs-3.21-bioc/R/bin/R CMD build --keep-empty-dirs --no-resave-data puma StartedAt: 2025-09-28 19:28:03 -0400 (Sun, 28 Sep 2025) EndedAt: 2025-09-28 19:29:23 -0400 (Sun, 28 Sep 2025) EllapsedTime: 80.1 seconds RetCode: 0 Status: OK PackageFile: puma_3.50.0.tar.gz PackageFileSize: 3.406 MiB