Package: puma Version: 3.50.0 Command: /Library/Frameworks/R.framework/Resources/bin/R CMD INSTALL puma StartedAt: 2025-04-21 15:13:28 -0400 (Mon, 21 Apr 2025) EndedAt: 2025-04-21 15:13:45 -0400 (Mon, 21 Apr 2025) EllapsedTime: 16.7 seconds RetCode: 0 Status: OK