Package: proteinProfiles Version: 1.46.0 Command: /home/biocbuild/bbs-3.20-bioc/R/bin/R CMD check --install=check:proteinProfiles.install-out.txt --library=/home/biocbuild/bbs-3.20-bioc/R/site-library --timings proteinProfiles_1.46.0.tar.gz StartedAt: 2025-01-31 01:13:38 -0500 (Fri, 31 Jan 2025) EndedAt: 2025-01-31 01:14:01 -0500 (Fri, 31 Jan 2025) EllapsedTime: 23.0 seconds RetCode: 0 Status: OK CheckDir: proteinProfiles.Rcheck Warnings: 0