Package: proteinProfiles
Version: 1.46.0
Command: /Library/Frameworks/R.framework/Resources/bin/R CMD build --keep-empty-dirs --no-resave-data proteinProfiles
StartedAt: 2024-11-08 18:38:38 -0500 (Fri, 08 Nov 2024)
EndedAt: 2024-11-08 18:38:45 -0500 (Fri, 08 Nov 2024)
EllapsedTime: 7.1 seconds
RetCode: 0
Status: OK
PackageFile: proteinProfiles_1.46.0.tar.gz
PackageFileSize: 383.9 <A href="http://en.wikipedia.org/wiki/KiB" target="_blank">KiB</A>