Package: proteinProfiles Version: 1.48.0 Command: rm -rf proteinProfiles.buildbin-libdir && mkdir proteinProfiles.buildbin-libdir && /Users/biocbuild/BBS/utils/build-universal.sh proteinProfiles_1.48.0.tar.gz /Library/Frameworks/R.framework/Resources/bin/R proteinProfiles.buildbin-libdir StartedAt: 2025-04-21 22:47:06 -0400 (Mon, 21 Apr 2025) EndedAt: 2025-04-21 22:47:08 -0400 (Mon, 21 Apr 2025) EllapsedTime: 2.1 seconds RetCode: 0 Status: OK PackageFile: proteinProfiles_1.48.0.tgz PackageFileSize: 402.9 KiB